Workbook

Sheet About KYROS
B7: KYROS Insights is the only actuarial firm globally that is solely focused on loyalty programs. We have built a set of proprietary actuarial tools designed from the ground up to solve problems for loyalty programs. This includes the actuarial and machine learning tools we use on the back end to perform our analyses and the KYROS Dashboard we use to present those results to our customers on the front end. We’ve gained our experience through working with many of the world’s largest loyalty programs. Over the years we’ve worked with most of the major hotel chains, several of the world’s largest frequent flyer programs, several large financial institutions and nearly all the worlds online travel agencies. We’ve helped programs manage multiple billion dollars in liabilities.
B9: Want to learn more?
B10: Visit our website
B11: Email us

Sheet Info
B2: Tab | C2: Description | G2: Disclaimer
B3: Inputs | C3: Enter data and actuarial estimates on this tab each month. The 12/31/19 row represents the opening point and liability balance. Issued, redeemed and expired points should be incremental. URR and FVPP estimates usually come from your actuary. | G3: This information and materials available in this Excel file ("Materials") are for informational or educational purposes only. Opinions, reviews, and recommendations expressed through the Materials are the opinions of the individual author and may not be used as a substitute for competent professional advice. The Materials should not form the primary basis for any decision that you make in relation to matters referred to herein. Please carefully review the Materials and perform such due diligence as you deem fit, including consulting your own independent legal, tax, accountancy and other professional or specialist advisors, as necessary or appropriate.
B4: Outputs | C4: This tab shows the amount of revenue to be deferred and recognized each month, along with the deferred revenue balance at the end of the month.
B5: Details | C5: This tab contains the calculations that use the Inputs to produce the Outputs.
G6: KYROS Insights makes no warranties, or guarantees, express or implied, nor does it represent that the Materials are accurate, complete, reliable, or free of errors or that they pertain to your particular circumstance or situation. To the extent permitted by law, we disclaim any and all liability, loss, expenses or damage pertaining to your use, or download of the Materials.
B7: Definitions
B8: CM URR | C8: Current month URR = Percent of all points earned in the current month that have already or will ultimately be redeemed.
B9: FVPP | C9: Fair value per point = The value to the customer of each point that will ultimately be redeemed.
B10: URR on OS | C10: URR on outstanding points = Percent of all points currently outstanding that will ultimately be redeemed.
B11: Revenue Recognition Rate | C11: Equal to deferred revenue balance divided by number of points expected to be redeemed; represents amount of revenue to recognize for each point redeemed in the next month. | G11: Watch this video to learn how to use this file

Sheet Inputs
B3: Issued | C3: Redeemed | D3: Expired | E3: Outstanding | I3: Future | J3: Deferred Rev
B4: Points | C4: Points | D4: Points | E4: Points | F4: CM URR | G4: FVPP | H4: URR on OS | I4: Redemptions | J4: Balance
A5: 43830 | E5: 1000000 | H5: 0.8 | I5: =IFERROR(E5*H5,"") -> 800000 | J5: 100000 | L5: Green cells represent one-time inputs. These numbers typically come from accounting.
A6: =EOMONTH(A5,1) -> 43861 | B6: 15000 | C6: -12000 | D6: -1000 | E6: =IF(B6="","",E5+SUM(B6:D6)) -> 1002000 | F6: 0.875 | G6: 0.12 | H6: 0.801 | I6: =IFERROR(E6*H6,"") -> 802602
A7: =EOMONTH(A6,1) -> 43890 | B7: 14000 | C7: -10500 | D7: -1000 | E7: =IF(B7="","",E6+SUM(B7:D7)) -> 1004500 | F7: 0.87 | G7: 0.121 | H7: 0.8 | I7: =IFERROR(E7*H7,"") -> 803600
A8: =EOMONTH(A7,1) -> 43921 | B8: 15200 | C8: -11500 | D8: -1100 | E8: =IF(B8="","",E7+SUM(B8:D8)) -> 1007100 | F8: 0.868 | G8: 0.122 | H8: 0.799 | I8: =IFERROR(E8*H8,"") -> 804672.9 | L8: Blue cells represent monthly inputs. These numbers typically come from accounting, though your actuary can provide them as well.
A9: =EOMONTH(A8,1) -> 43951 | B9: 14800 | C9: -10700 | D9: -1050 | E9: =IF(B9="","",E8+SUM(B9:D9)) -> 1010150 | F9: 0.878 | G9: 0.121 | H9: 0.802 | I9: =IFERROR(E9*H9,"") -> 810140.3
A10: =EOMONTH(A9,1) -> 43982 | E10: =IF(B10="","",E9+SUM(B10:D10)) | I10: =IFERROR(E10*H10,"")
A11: =EOMONTH(A10,1) -> 44012 | E11: =IF(B11="","",E10+SUM(B11:D11)) | I11: =IFERROR(E11*H11,"") | L11: Purple cells also represent inputs. These numbers typically come from your actuary each month-end.
A12: =EOMONTH(A11,1) -> 44043 | E12: =IF(B12="","",E11+SUM(B12:D12)) | I12: =IFERROR(E12*H12,"")
A13: =EOMONTH(A12,1) -> 44074 | E13: =IF(B13="","",E12+SUM(B13:D13)) | I13: =IFERROR(E13*H13,"")
A14: =EOMONTH(A13,1) -> 44104 | E14: =IF(B14="","",E13+SUM(B14:D14)) | I14: =IFERROR(E14*H14,"") | L14: Orange cells represent formulas that should not be changed.
A15: =EOMONTH(A14,1) -> 44135 | E15: =IF(B15="","",E14+SUM(B15:D15)) | I15: =IFERROR(E15*H15,"")
A16: =EOMONTH(A15,1) -> 44165 | E16: =IF(B16="","",E15+SUM(B16:D16)) | I16: =IFERROR(E16*H16,"")
A17: =EOMONTH(A16,1) -> 44196 | E17: =IF(B17="","",E16+SUM(B17:D17)) | I17: =IFERROR(E17*H17,"")

Sheet Outputs
B3: Revenue | C3: Revenue | D3: Ending Deferred | E3: Ending Revenue
B4: to Defer | C4: to Recognize | D4: Revenue Balance | E4: Recognition Rate
A5: =Inputs!$A$5 -> 43830 | D5: =SUMIFS(Details!$H:$H,Details!$A:$A,$A5,Details!$B:$B,"Opening Balance") -> 100000 | E5: =SUMIFS(Details!$F:$F,Details!$A:$A,$A5,Details!$B:$B,"Opening Balance") -> 0.125
A6: =EOMONTH(A5,1) -> 43861 | B6: =IF(Inputs!B6="","",SUMIFS(Details!$H:$H,Details!$A:$A,$A6,Details!$B:$B,"Issued")) -> 1575 | C6: =IF(Inputs!C6="","",-SUMIFS(Details!$H:$H,Details!$A:$A,$A6,Details!$B:$B,"Redeemed")) -> 1500 | D6: =IF(Inputs!E6="","",SUMIFS(Details!$H:$H,Details!$A:$A,$A6,Details!$B:$B,"Final Balance")) -> 100075 | E6: =IF(D6="","",SUMIFS(Details!$F:$F,Details!$A:$A,$A6,Details!$B:$B,"Final Balance")) -> 0.1246882
A7: =EOMONTH(A6,1) -> 43890 | B7: =IF(Inputs!B7="","",SUMIFS(Details!$H:$H,Details!$A:$A,$A7,Details!$B:$B,"Issued")) -> 1473.78 | C7: =IF(Inputs!C7="","",-SUMIFS(Details!$H:$H,Details!$A:$A,$A7,Details!$B:$B,"Redeemed")) -> 1309.2261 | D7: =IF(Inputs!E7="","",SUMIFS(Details!$H:$H,Details!$A:$A,$A7,Details!$B:$B,"Final Balance")) -> 100239.55 | E7: =IF(D7="","",SUMIFS(Details!$F:$F,Details!$A:$A,$A7,Details!$B:$B,"Final Balance")) -> 0.12473812
A8: =EOMONTH(A7,1) -> 43921 | B8: =IF(Inputs!B8="","",SUMIFS(Details!$H:$H,Details!$A:$A,$A8,Details!$B:$B,"Issued")) -> 1609.6192 | C8: =IF(Inputs!C8="","",-SUMIFS(Details!$H:$H,Details!$A:$A,$A8,Details!$B:$B,"Redeemed")) -> 1433.9143 | D8: =IF(Inputs!E8="","",SUMIFS(Details!$H:$H,Details!$A:$A,$A8,Details!$B:$B,"Final Balance")) -> 100415.26 | E8: =IF(D8="","",SUMIFS(Details!$F:$F,Details!$A:$A,$A8,Details!$B:$B,"Final Balance")) -> 0.12479016
A9: =EOMONTH(A8,1) -> 43951 | B9: =IF(Inputs!B9="","",SUMIFS(Details!$H:$H,Details!$A:$A,$A9,Details!$B:$B,"Issued")) -> 1572.3224 | C9: =IF(Inputs!C9="","",-SUMIFS(Details!$H:$H,Details!$A:$A,$A9,Details!$B:$B,"Redeemed")) -> 1334.1638 | D9: =IF(Inputs!E9="","",SUMIFS(Details!$H:$H,Details!$A:$A,$A9,Details!$B:$B,"Final Balance")) -> 100653.42 | E9: =IF(D9="","",SUMIFS(Details!$F:$F,Details!$A:$A,$A9,Details!$B:$B,"Final Balance")) -> 0.12424196
A10: =EOMONTH(A9,1) -> 43982 | B10: =IF(Inputs!B10="","",SUMIFS(Details!$H:$H,Details!$A:$A,$A10,Details!$B:$B,"Issued")) | C10: =IF(Inputs!C10="","",-SUMIFS(Details!$H:$H,Details!$A:$A,$A10,Details!$B:$B,"Redeemed")) | D10: =IF(Inputs!E10="","",SUMIFS(Details!$H:$H,Details!$A:$A,$A10,Details!$B:$B,"Final Balance")) | E10: =IF(D10="","",SUMIFS(Details!$F:$F,Details!$A:$A,$A10,Details!$B:$B,"Final Balance"))
A11: =EOMONTH(A10,1) -> 44012 | B11: =IF(Inputs!B11="","",SUMIFS(Details!$H:$H,Details!$A:$A,$A11,Details!$B:$B,"Issued")) | C11: =IF(Inputs!C11="","",-SUMIFS(Details!$H:$H,Details!$A:$A,$A11,Details!$B:$B,"Redeemed")) | D11: =IF(Inputs!E11="","",SUMIFS(Details!$H:$H,Details!$A:$A,$A11,Details!$B:$B,"Final Balance")) | E11: =IF(D11="","",SUMIFS(Details!$F:$F,Details!$A:$A,$A11,Details!$B:$B,"Final Balance"))
A12: =EOMONTH(A11,1) -> 44043 | B12: =IF(Inputs!B12="","",SUMIFS(Details!$H:$H,Details!$A:$A,$A12,Details!$B:$B,"Issued")) | C12: =IF(Inputs!C12="","",-SUMIFS(Details!$H:$H,Details!$A:$A,$A12,Details!$B:$B,"Redeemed")) | D12: =IF(Inputs!E12="","",SUMIFS(Details!$H:$H,Details!$A:$A,$A12,Details!$B:$B,"Final Balance")) | E12: =IF(D12="","",SUMIFS(Details!$F:$F,Details!$A:$A,$A12,Details!$B:$B,"Final Balance"))
A13: =EOMONTH(A12,1) -> 44074 | B13: =IF(Inputs!B13="","",SUMIFS(Details!$H:$H,Details!$A:$A,$A13,Details!$B:$B,"Issued")) | C13: =IF(Inputs!C13="","",-SUMIFS(Details!$H:$H,Details!$A:$A,$A13,Details!$B:$B,"Redeemed")) | D13: =IF(Inputs!E13="","",SUMIFS(Details!$H:$H,Details!$A:$A,$A13,Details!$B:$B,"Final Balance")) | E13: =IF(D13="","",SUMIFS(Details!$F:$F,Details!$A:$A,$A13,Details!$B:$B,"Final Balance"))
A14: =EOMONTH(A13,1) -> 44104 | B14: =IF(Inputs!B14="","",SUMIFS(Details!$H:$H,Details!$A:$A,$A14,Details!$B:$B,"Issued")) | C14: =IF(Inputs!C14="","",-SUMIFS(Details!$H:$H,Details!$A:$A,$A14,Details!$B:$B,"Redeemed")) | D14: =IF(Inputs!E14="","",SUMIFS(Details!$H:$H,Details!$A:$A,$A14,Details!$B:$B,"Final Balance")) | E14: =IF(D14="","",SUMIFS(Details!$F:$F,Details!$A:$A,$A14,Details!$B:$B,"Final Balance"))
A15: =EOMONTH(A14,1) -> 44135 | B15: =IF(Inputs!B15="","",SUMIFS(Details!$H:$H,Details!$A:$A,$A15,Details!$B:$B,"Issued")) | C15: =IF(Inputs!C15="","",-SUMIFS(Details!$H:$H,Details!$A:$A,$A15,Details!$B:$B,"Redeemed")) | D15: =IF(Inputs!E15="","",SUMIFS(Details!$H:$H,Details!$A:$A,$A15,Details!$B:$B,"Final Balance")) | E15: =IF(D15="","",SUMIFS(Details!$F:$F,Details!$A:$A,$A15,Details!$B:$B,"Final Balance"))
A16: =EOMONTH(A15,1) -> 44165 | B16: =IF(Inputs!B16="","",SUMIFS(Details!$H:$H,Details!$A:$A,$A16,Details!$B:$B,"Issued")) | C16: =IF(Inputs!C16="","",-SUMIFS(Details!$H:$H,Details!$A:$A,$A16,Details!$B:$B,"Redeemed")) | D16: =IF(Inputs!E16="","",SUMIFS(Details!$H:$H,Details!$A:$A,$A16,Details!$B:$B,"Final Balance")) | E16: =IF(D16="","",SUMIFS(Details!$F:$F,Details!$A:$A,$A16,Details!$B:$B,"Final Balance"))
A17: =EOMONTH(A16,1) -> 44196 | B17: =IF(Inputs!B17="","",SUMIFS(Details!$H:$H,Details!$A:$A,$A17,Details!$B:$B,"Issued")) | C17: =IF(Inputs!C17="","",-SUMIFS(Details!$H:$H,Details!$A:$A,$A17,Details!$B:$B,"Redeemed")) | D17: =IF(Inputs!E17="","",SUMIFS(Details!$H:$H,Details!$A:$A,$A17,Details!$B:$B,"Final Balance")) | E17: =IF(D17="","",SUMIFS(Details!$F:$F,Details!$A:$A,$A17,Details!$B:$B,"Final Balance"))

Sheet Details
C2: Points | D2: URR | E2: To Be Redeemed | F2: Rev Rec Rate | G2: FVPP | H2: Deferred Revenue
A4: =Inputs!$A$5 -> 43830 | B4: Opening balance | C4: =VLOOKUP($A4,Inputs!$A:$J,5,FALSE) -> 1000000 | D4: =VLOOKUP($A4,Inputs!$A:$J,8,FALSE) -> 0.8 | E4: =C4*D4 -> 800000 | F4: =IFERROR(H4/E4,0) -> 0.125 | H4: =VLOOKUP($A4,Inputs!$A:$J,10,FALSE) -> 100000
A6: =EOMONTH(A4,1) -> 43861 | B6: Issued | C6: =VLOOKUP($A6,Inputs!$A:$J,2,FALSE) -> 15000 | D6: =VLOOKUP($A6,Inputs!$A:$J,6,FALSE) -> 0.875 | E6: =C6*D6 -> 13125 | G6: =VLOOKUP($A6,Inputs!$A:$J,7,FALSE) -> 0.12 | H6: =E6*G6 -> 1575
A8: =A6 -> 43861 | B8: Redeemed | C8: =VLOOKUP($A8,Inputs!$A:$J,3,FALSE) -> -12000 | D8: 1 | E8: =C8*D8 -> -12000 | F8: =F$4 -> 0.125 | H8: =E8*F8 -> -1500
A9: =A8 -> 43861 | B9: Expired | C9: =VLOOKUP($A9,Inputs!$A:$J,4,FALSE) -> -1000 | D9: 0 | E9: =C9*D9 -> 0 | F9: =F$4 -> 0.125 | H9: =E9*F9 -> 0
A11: =A9 -> 43861 | B11: Outstanding | C11: =SUM(C4:C10) -> 1002000 | D11: =E11/C11 -> 0.79952595 | E11: =SUM(E4:E10) -> 801125 | H11: =SUM(H4:H10) -> 100075
B13: Change in URR Estimate | E13: =E15-E11 -> 1477
A15: =A11 -> 43861 | B15: Final balance | C15: =C11 -> 1002000 | D15: =VLOOKUP($A15,Inputs!$A:$J,8,FALSE) -> 0.801 | E15: =C15*D15 -> 802602 | F15: =IFERROR(H15/E15,0) -> 0.1246882 | H15: =H11 -> 100075
C17: Points | D17: URR | E17: To Be Redeemed | F17: Rev Rec Rate | G17: FVPP | H17: Deferred Revenue
A19: =A15 -> 43861 | B19: Opening balance | C19: =C15 -> 1002000 | D19: =E19/C19 -> 0.801 | E19: =E15 -> 802602 | F19: =IFERROR(H19/E19,0) -> 0.1246882 | H19: =H15 -> 100075
A21: =EOMONTH(A19,1) -> 43890 | B21: Issued | C21: =VLOOKUP($A21,Inputs!$A:$J,2,FALSE) -> 14000 | D21: =VLOOKUP($A21,Inputs!$A:$J,6,FALSE) -> 0.87 | E21: =C21*D21 -> 12180 | G21: =VLOOKUP($A21,Inputs!$A:$J,7,FALSE) -> 0.121 | H21: =E21*G21 -> 1473.78
A23: =A21 -> 43890 | B23: Redeemed | C23: =VLOOKUP($A23,Inputs!$A:$J,3,FALSE) -> -10500 | D23: 1 | E23: =C23*D23 -> -10500 | F23: =F$19 -> 0.1246882 | H23: =E23*F23 -> -1309.2261
A24: =A23 -> 43890 | B24: Expired | C24: =VLOOKUP($A24,Inputs!$A:$J,4,FALSE) -> -1000 | D24: 0 | E24: =C24*D24 -> 0 | F24: =F$19 -> 0.1246882 | H24: =E24*F24 -> 0
A26: =A24 -> 43890 | B26: Outstanding | C26: =SUM(C19:C25) -> 1004500 | D26: =E26/C26 -> 0.80067894 | E26: =SUM(E19:E25) -> 804282 | H26: =SUM(H19:H25) -> 100239.55
B28: Change in URR Estimate | E28: =E30-E26 -> -682
A30: =A26 -> 43890 | B30: Final balance | C30: =C26 -> 1004500 | D30: =VLOOKUP($A30,Inputs!$A:$J,8,FALSE) -> 0.8 | E30: =C30*D30 -> 803600 | F30: =IFERROR(H30/E30,0) -> 0.12473812 | H30: =H26 -> 100239.55
C32: Points | D32: URR | E32: To Be Redeemed | F32: Rev Rec Rate | G32: FVPP | H32: Deferred Revenue
A34: =A30 -> 43890 | B34: Opening balance | C34: =C30 -> 1004500 | D34: =E34/C34 -> 0.8 | E34: =E30 -> 803600 | F34: =IFERROR(H34/E34,0) -> 0.12473812 | H34: =H30 -> 100239.55
A36: =EOMONTH(A34,1) -> 43921 | B36: Issued | C36: =VLOOKUP($A36,Inputs!$A:$J,2,FALSE) -> 15200 | D36: =VLOOKUP($A36,Inputs!$A:$J,6,FALSE) -> 0.868 | E36: =C36*D36 -> 13193.6 | G36: =VLOOKUP($A36,Inputs!$A:$J,7,FALSE) -> 0.122 | H36: =E36*G36 -> 1609.6192
A38: =A36 -> 43921 | B38: Redeemed | C38: =VLOOKUP($A38,Inputs!$A:$J,3,FALSE) -> -11500 | D38: 1 | E38: =C38*D38 -> -11500 | F38: =F$19 -> 0.1246882 | H38: =E38*F38 -> -1433.9143
A39: =A38 -> 43921 | B39: Expired | C39: =VLOOKUP($A39,Inputs!$A:$J,4,FALSE) -> -1100 | D39: 0 | E39: =C39*D39 -> 0 | F39: =F$19 -> 0.1246882 | H39: =E39*F39 -> 0
A41: =A39 -> 43921 | B41: Outstanding | C41: =SUM(C34:C40) -> 1007100 | D41: =E41/C41 -> 0.79961632 | E41: =SUM(E34:E40) -> 805293.6 | H41: =SUM(H34:H40) -> 100415.26
B43: Change in URR Estimate | E43: =E45-E41 -> -620.7
A45: =A41 -> 43921 | B45: Final balance | C45: =C41 -> 1007100 | D45: =VLOOKUP($A45,Inputs!$A:$J,8,FALSE) -> 0.799 | E45: =C45*D45 -> 804672.9 | F45: =IFERROR(H45/E45,0) -> 0.12479016 | H45: =H41 -> 100415.26
C47: Points | D47: URR | E47: To Be Redeemed | F47: Rev Rec Rate | G47: FVPP | H47: Deferred Revenue
A49: =A45 -> 43921 | B49: Opening balance | C49: =C45 -> 1007100 | D49: =E49/C49 -> 0.799 | E49: =E45 -> 804672.9 | F49: =IFERROR(H49/E49,0) -> 0.12479016 | H49: =H45 -> 100415.26
A51: =EOMONTH(A49,1) -> 43951 | B51: Issued | C51: =VLOOKUP($A51,Inputs!$A:$J,2,FALSE) -> 14800 | D51: =VLOOKUP($A51,Inputs!$A:$J,6,FALSE) -> 0.878 | E51: =C51*D51 -> 12994.4 | G51: =VLOOKUP($A51,Inputs!$A:$J,7,FALSE) -> 0.121 | H51: =E51*G51 -> 1572.3224
A53: =A51 -> 43951 | B53: Redeemed | C53: =VLOOKUP($A53,Inputs!$A:$J,3,FALSE) -> -10700 | D53: 1 | E53: =C53*D53 -> -10700 | F53: =F$19 -> 0.1246882 | H53: =E53*F53 -> -1334.1638
A54: =A53 -> 43951 | B54: Expired | C54: =VLOOKUP($A54,Inputs!$A:$J,4,FALSE) -> -1050 | D54: 0 | E54: =C54*D54 -> 0 | F54: =F$19 -> 0.1246882 | H54: =E54*F54 -> 0
A56: =A54 -> 43951 | B56: Outstanding | C56: =SUM(C49:C55) -> 1010150 | D56: =E56/C56 -> 0.79885888 | E56: =SUM(E49:E55) -> 806967.3 | H56: =SUM(H49:H55) -> 100653.42
B58: Change in URR Estimate | E58: =E60-E56 -> 3173
A60: =A56 -> 43951 | B60: Final balance | C60: =C56 -> 1010150 | D60: =VLOOKUP($A60,Inputs!$A:$J,8,FALSE) -> 0.802 | E60: =C60*D60 -> 810140.3 | F60: =IFERROR(H60/E60,0) -> 0.12424196 | H60: =H56 -> 100653.42
C62: Points | D62: URR | E62: To Be Redeemed | F62: Rev Rec Rate | G62: FVPP | H62: Deferred Revenue
A64: =A60 -> 43951 | B64: Opening balance | C64: =C60 -> 1010150 | D64: =E64/C64 -> 0.802 | E64: =E60 -> 810140.3 | F64: =IFERROR(H64/E64,0) -> 0.12424196 | H64: =H60 -> 100653.42
A66: =EOMONTH(A64,1) -> 43982 | B66: Issued | C66: =VLOOKUP($A66,Inputs!$A:$J,2,FALSE) -> 0 | D66: =VLOOKUP($A66,Inputs!$A:$J,6,FALSE) -> 0 | E66: =C66*D66 -> 0 | G66: =VLOOKUP($A66,Inputs!$A:$J,7,FALSE) -> 0 | H66: =E66*G66 -> 0
A68: =A66 -> 43982 | B68: Redeemed | C68: =VLOOKUP($A68,Inputs!$A:$J,3,FALSE) -> 0 | D68: 1 | E68: =C68*D68 -> 0 | F68: =F$19 -> 0.1246882 | H68: =E68*F68 -> 0
A69: =A68 -> 43982 | B69: Expired | C69: =VLOOKUP($A69,Inputs!$A:$J,4,FALSE) -> 0 | D69: 0 | E69: =C69*D69 -> 0 | F69: =F$19 -> 0.1246882 | H69: =E69*F69 -> 0
A71: =A69 -> 43982 | B71: Outstanding | C71: =SUM(C64:C70) -> 1010150 | D71: =E71/C71 -> 0.802 | E71: =SUM(E64:E70) -> 810140.3 | H71: =SUM(H64:H70) -> 100653.42
B73: Change in URR Estimate | E73: =E75-E71 -> -810140.3
A75: =A71 -> 43982 | B75: Final balance | C75: =C71 -> 1010150 | D75: =VLOOKUP($A75,Inputs!$A:$J,8,FALSE) -> 0 | E75: =C75*D75 -> 0 | F75: =IFERROR(H75/E75,0) -> 0 | H75: =H71 -> 100653.42
...
